BEGIN:VCALENDAR
VERSION:2.0
PRODID:-//Plone.org//NONSGML plone.app.event//EN
X-WR-TIMEZONE:Europe/Madrid
BEGIN:VEVENT
SUMMARY:Let's Clean Up Day 2026
DTSTART;TZID=Europe/Madrid;VALUE=DATE-TIME:20260509T093000
DTEND;TZID=Europe/Madrid;VALUE=DATE-TIME:20260509T103000
DTSTAMP;VALUE=DATE-TIME:20260424T174848Z
UID:4575cbbec9743a400a002484a03d2ad2
CREATED;VALUE=DATE-TIME:20260509T000000Z
LOCATION:Plaça Nova -Argentona
ORGANIZER:Ajuntament d'Argentona, Agència de Residus de Catalunya i Generalitat de Catalunya
COMMENT:Preu: Gratuït
DESCRIPTION:Neteja de la riera i boscos de l'entorn natural d'Argentona
URL:https://argentona.cat/document.php?id=63043
END:VEVENT
END:VCALENDAR