BEGIN:VCALENDAR
VERSION:2.0
PRODID:-//Plone.org//NONSGML plone.app.event//EN
X-WR-TIMEZONE:Europe/Madrid
BEGIN:VEVENT
SUMMARY:Ple Municipal Ordinari
DTSTART;TZID=Europe/Madrid;VALUE=DATE-TIME:20260427T183000
DTEND;TZID=Europe/Madrid;VALUE=DATE-TIME:20260427T193000
DTSTAMP;VALUE=DATE-TIME:20260423T001920Z
UID:d192a2c250f21b320d9cd1471d76e633
CREATED;VALUE=DATE-TIME:20260427T000000Z
LOCATION:Sala de plens de l'antic Ajuntament - C. Gran, 61 1r pis
DESCRIPTION:La sessió es podrà seguir, en directe, per Ràdio Argentona i el canal Youtube de l'Ajuntament
URL:https://argentona.cat/document.php?id=63039
END:VEVENT
END:VCALENDAR