BEGIN:VCALENDAR
VERSION:2.0
PRODID:-//Plone.org//NONSGML plone.app.event//EN
X-WR-TIMEZONE:Europe/Madrid
BEGIN:VEVENT
SUMMARY:Aula d'estudi
DTSTART;TZID=Europe/Madrid;VALUE=DATE-TIME:20260518T000000
DTEND;TZID=Europe/Madrid;VALUE=DATE-TIME:20260518T010000
DTSTAMP;VALUE=DATE-TIME:20260422T150454Z
UID:c206648b08120b82bb98d9ef4f595262
CREATED;VALUE=DATE-TIME:20260518T000000Z
LOCATION:Biblioteca
ORGANIZER:Regidoria de Joventut
COMMENT:Durada: De les 20 a les 23hores
URL:https://argentona.cat/document.php?id=63031
END:VEVENT
END:VCALENDAR