BEGIN:VCALENDAR
VERSION:2.0
PRODID:-//Plone.org//NONSGML plone.app.event//EN
X-WR-TIMEZONE:Europe/Madrid
BEGIN:VEVENT
SUMMARY:Temporada 2026 La Sala - El cor dels amants
DTSTART;TZID=Europe/Madrid;VALUE=DATE-TIME:20260426T180000
DTEND;TZID=Europe/Madrid;VALUE=DATE-TIME:20260426T190000
DTSTAMP;VALUE=DATE-TIME:20260421T142910Z
UID:ddc5f5e66d31bf1561a422711641fcd2
CREATED;VALUE=DATE-TIME:20260426T000000Z
CATEGORIES:Agenda de l'alcaldessa
URL:https://argentona.cat/document.php?id=63026
END:VEVENT
END:VCALENDAR