BEGIN:VCALENDAR
VERSION:2.0
PRODID:-//Plone.org//NONSGML plone.app.event//EN
X-WR-TIMEZONE:Europe/Madrid
BEGIN:VEVENT
SUMMARY:Actes Mostres Entitats
DTSTART;TZID=Europe/Madrid;VALUE=DATE-TIME:20260425T000000
DTEND;TZID=Europe/Madrid;VALUE=DATE-TIME:20260425T010000
DTSTAMP;VALUE=DATE-TIME:20260421T142843Z
UID:c98222f62560bbe1ae4c7520c5b6caa9
CREATED;VALUE=DATE-TIME:20260425T000000Z
CATEGORIES:Agenda de l'alcaldessa
URL:https://argentona.cat/document.php?id=63025
END:VEVENT
END:VCALENDAR