BEGIN:VCALENDAR
VERSION:2.0
PRODID:-//Plone.org//NONSGML plone.app.event//EN
X-WR-TIMEZONE:Europe/Madrid
BEGIN:VEVENT
SUMMARY:Arribada de la Flama del Correllengua
DTSTART;TZID=Europe/Madrid;VALUE=DATE-TIME:20260424T183000
DTEND;TZID=Europe/Madrid;VALUE=DATE-TIME:20260424T193000
DTSTAMP;VALUE=DATE-TIME:20260421T155850Z
UID:fb0bf4eb7e3dc1f6187218dab442494c
CREATED;VALUE=DATE-TIME:20260424T000000Z
CATEGORIES:Agenda de l'alcaldessa
LOCATION:Plaça Nova
URL:https://argentona.cat/document.php?id=63024
END:VEVENT
END:VCALENDAR