BEGIN:VCALENDAR
VERSION:2.0
PRODID:-//Plone.org//NONSGML plone.app.event//EN
X-WR-TIMEZONE:Europe/Madrid
BEGIN:VEVENT
SUMMARY:Setmana de la Cultura - Sorteig panera Cultural
DTSTART;TZID=Europe/Madrid;VALUE=DATE-TIME:20260423T183000
DTEND;TZID=Europe/Madrid;VALUE=DATE-TIME:20260423T193000
DTSTAMP;VALUE=DATE-TIME:20260421T142924Z
UID:61e36f24bc268f8199d23fe830e2c69b
CREATED;VALUE=DATE-TIME:20260423T000000Z
CATEGORIES:Agenda de l'alcaldessa
LOCATION:Biblioteca
URL:https://argentona.cat/document.php?id=63023
END:VEVENT
END:VCALENDAR