BEGIN:VCALENDAR
VERSION:2.0
PRODID:-//Plone.org//NONSGML plone.app.event//EN
X-WR-TIMEZONE:Europe/Madrid
BEGIN:VEVENT
SUMMARY:Conferència Verdaguer i la Natura - Aula d'extensió universitària
DTSTART;TZID=Europe/Madrid;VALUE=DATE-TIME:20260423T180000
DTEND;TZID=Europe/Madrid;VALUE=DATE-TIME:20260423T190000
DTSTAMP;VALUE=DATE-TIME:20260421T143003Z
UID:6296ff0b485918fc8cd7522e1169b770
CREATED;VALUE=DATE-TIME:20260423T000000Z
CATEGORIES:Agenda de l'alcaldessa
LOCATION:Centre Parroquial
URL:https://argentona.cat/document.php?id=63022
END:VEVENT
END:VCALENDAR