BEGIN:VCALENDAR
VERSION:2.0
PRODID:-//Plone.org//NONSGML plone.app.event//EN
X-WR-TIMEZONE:Europe/Madrid
BEGIN:VEVENT
SUMMARY:Concert Diari Avui 50+
DTSTART;TZID=Europe/Madrid;VALUE=DATE-TIME:20260422T180000
DTEND;TZID=Europe/Madrid;VALUE=DATE-TIME:20260422T190000
DTSTAMP;VALUE=DATE-TIME:20260421T142756Z
UID:4e82d6e2032e8492673234be3ce9294a
CREATED;VALUE=DATE-TIME:20260422T000000Z
CATEGORIES:Agenda de l'alcaldessa
LOCATION:Badalona
URL:https://argentona.cat/document.php?id=63020
END:VEVENT
END:VCALENDAR