BEGIN:VCALENDAR
VERSION:2.0
PRODID:-//Plone.org//NONSGML plone.app.event//EN
X-WR-TIMEZONE:Europe/Madrid
BEGIN:VEVENT
SUMMARY:Mesa de negociació
DTSTART;TZID=Europe/Madrid;VALUE=DATE-TIME:20260422T120000
DTEND;TZID=Europe/Madrid;VALUE=DATE-TIME:20260422T130000
DTSTAMP;VALUE=DATE-TIME:20260421T155809Z
UID:3142b29d044fef499ecf1f9847cea2d6
CREATED;VALUE=DATE-TIME:20260422T000000Z
CATEGORIES:Agenda de l'alcaldessa
URL:https://argentona.cat/document.php?id=63019
END:VEVENT
END:VCALENDAR