BEGIN:VCALENDAR
VERSION:2.0
PRODID:-//Plone.org//NONSGML plone.app.event//EN
X-WR-TIMEZONE:Europe/Madrid
BEGIN:VEVENT
SUMMARY:Consell extraordinari del Museu del Càntir
DTSTART;TZID=Europe/Madrid;VALUE=DATE-TIME:20260421T190000
DTEND;TZID=Europe/Madrid;VALUE=DATE-TIME:20260421T200000
DTSTAMP;VALUE=DATE-TIME:20260421T142656Z
UID:422fa7781b54d6f95bd307b2b7554684
CREATED;VALUE=DATE-TIME:20260421T000000Z
CATEGORIES:Agenda de l'alcaldessa
URL:https://argentona.cat/document.php?id=63018
END:VEVENT
END:VCALENDAR