BEGIN:VCALENDAR
VERSION:2.0
PRODID:-//Plone.org//NONSGML plone.app.event//EN
X-WR-TIMEZONE:Europe/Madrid
BEGIN:VEVENT
SUMMARY:Reunió habitatge - Associació de veïns
DTSTART;TZID=Europe/Madrid;VALUE=DATE-TIME:20260421T173000
DTEND;TZID=Europe/Madrid;VALUE=DATE-TIME:20260421T183000
DTSTAMP;VALUE=DATE-TIME:20260421T142827Z
UID:e9f63e492539808307b4a3c9c60a7cdf
CREATED;VALUE=DATE-TIME:20260421T000000Z
CATEGORIES:Agenda de l'alcaldessa
URL:https://argentona.cat/document.php?id=63017
END:VEVENT
END:VCALENDAR