BEGIN:VCALENDAR
VERSION:2.0
PRODID:-//Plone.org//NONSGML plone.app.event//EN
X-WR-TIMEZONE:Europe/Madrid
BEGIN:VEVENT
SUMMARY:Comissions Informatives
DTSTART;TZID=Europe/Madrid;VALUE=DATE-TIME:20260420T183000
DTEND;TZID=Europe/Madrid;VALUE=DATE-TIME:20260420T193000
DTSTAMP;VALUE=DATE-TIME:20260421T142731Z
UID:5159df494251b07329cb162f2922371a
CREATED;VALUE=DATE-TIME:20260420T000000Z
CATEGORIES:Agenda de l'alcaldessa
URL:https://argentona.cat/document.php?id=63015
END:VEVENT
END:VCALENDAR