BEGIN:VCALENDAR
VERSION:2.0
PRODID:-//Plone.org//NONSGML plone.app.event//EN
X-WR-TIMEZONE:Europe/Madrid
BEGIN:VEVENT
SUMMARY:Junta de Govern Local
DTSTART;TZID=Europe/Madrid;VALUE=DATE-TIME:20260420T180000
DTEND;TZID=Europe/Madrid;VALUE=DATE-TIME:20260420T190000
DTSTAMP;VALUE=DATE-TIME:20260421T142640Z
UID:8d0e47f6eb51cee483b2802cc3d6ad31
CREATED;VALUE=DATE-TIME:20260420T000000Z
CATEGORIES:Agenda de l'alcaldessa
URL:https://argentona.cat/document.php?id=63014
END:VEVENT
END:VCALENDAR