BEGIN:VCALENDAR
VERSION:2.0
PRODID:-//Plone.org//NONSGML plone.app.event//EN
X-WR-TIMEZONE:Europe/Madrid
BEGIN:VEVENT
SUMMARY:Reunió de Govern
DTSTART;TZID=Europe/Madrid;VALUE=DATE-TIME:20260420T170000
DTEND;TZID=Europe/Madrid;VALUE=DATE-TIME:20260420T180000
DTSTAMP;VALUE=DATE-TIME:20260421T142710Z
UID:51a0c2c9a204cd37ad0fbce1ed5b75f0
CREATED;VALUE=DATE-TIME:20260420T000000Z
CATEGORIES:Agenda de l'alcaldessa
URL:https://argentona.cat/document.php?id=63013
END:VEVENT
END:VCALENDAR