BEGIN:VCALENDAR
VERSION:2.0
PRODID:-//Plone.org//NONSGML plone.app.event//EN
X-WR-TIMEZONE:Europe/Madrid
BEGIN:VEVENT
SUMMARY:Reunió Gent Gran amb els portaveus dels grups municipals
DTSTART;TZID=Europe/Madrid;VALUE=DATE-TIME:20260420T163000
DTEND;TZID=Europe/Madrid;VALUE=DATE-TIME:20260420T173000
DTSTAMP;VALUE=DATE-TIME:20260421T155824Z
UID:9b634e0dd55812c034e0228b1892f205
CREATED;VALUE=DATE-TIME:20260420T000000Z
CATEGORIES:Agenda de l'alcaldessa
URL:https://argentona.cat/document.php?id=63012
END:VEVENT
END:VCALENDAR