BEGIN:VCALENDAR
VERSION:2.0
PRODID:-//Plone.org//NONSGML plone.app.event//EN
X-WR-TIMEZONE:Europe/Madrid
BEGIN:VEVENT
SUMMARY:Presa de possessió d'un agent de policia
DTSTART;TZID=Europe/Madrid;VALUE=DATE-TIME:20260420T130000
DTEND;TZID=Europe/Madrid;VALUE=DATE-TIME:20260420T140000
DTSTAMP;VALUE=DATE-TIME:20260421T155836Z
UID:be650ca1b19acbee0c2369472f2b106f
CREATED;VALUE=DATE-TIME:20260420T000000Z
CATEGORIES:Agenda de l'alcaldessa
URL:https://argentona.cat/document.php?id=63011
END:VEVENT
END:VCALENDAR