BEGIN:VCALENDAR
VERSION:2.0
PRODID:-//Plone.org//NONSGML plone.app.event//EN
X-WR-TIMEZONE:Europe/Madrid
BEGIN:VEVENT
SUMMARY:Concert de primavera de la Coral Càntir d'Or
DTSTART;TZID=Europe/Madrid;VALUE=DATE-TIME:20260530T180000
DTEND;TZID=Europe/Madrid;VALUE=DATE-TIME:20260530T190000
DTSTAMP;VALUE=DATE-TIME:20260420T162709Z
UID:6565857ed8904e23ab28ec2aa26121e5
CREATED;VALUE=DATE-TIME:20260530T000000Z
CATEGORIES:Música
LOCATION:Altre (ho explico més avall)
ORGANIZER:Coral Càntir d'Or
COMMENT:Preu: entrada lliure
Durada: 1 hora
DESCRIPTION:Concert de cant coral i més
URL:https://argentona.cat/document.php?id=63001
END:VEVENT
END:VCALENDAR