BEGIN:VCALENDAR
VERSION:2.0
PRODID:-//Plone.org//NONSGML plone.app.event//EN
X-WR-TIMEZONE:Europe/Madrid
BEGIN:VEVENT
SUMMARY:MOSTRA D'ENTITATS D'ARGENTONA
DTSTART;TZID=Europe/Madrid;VALUE=DATE-TIME:20260425T110000
DTEND;TZID=Europe/Madrid;VALUE=DATE-TIME:20260425T120000
DTSTAMP;VALUE=DATE-TIME:20260420T161831Z
UID:987f08a62992756afa8d7fc35837e8fb
CREATED;VALUE=DATE-TIME:20260425T000000Z
CATEGORIES:Mostra
LOCATION:Plaça Nova
COMMENT:Preu: Gratuït
Durada: D'11 a 14 h i 16:30 a 19:30 h
DESCRIPTION:Setmana de la Cultura, Sant Jordi 2026
URL:https://argentona.cat/document.php?id=62999
END:VEVENT
END:VCALENDAR