BEGIN:VCALENDAR
VERSION:2.0
PRODID:-//Plone.org//NONSGML plone.app.event//EN
X-WR-TIMEZONE:Europe/Madrid
BEGIN:VEVENT
SUMMARY:Taller de ceràmica
DTSTART;TZID=Europe/Madrid;VALUE=DATE-TIME:20260424T190000
DTEND;TZID=Europe/Madrid;VALUE=DATE-TIME:20260424T200000
DTSTAMP;VALUE=DATE-TIME:20260424T100826Z
UID:1dfb959e4bda6f48f1e0a0e910cccbb2
CREATED;VALUE=DATE-TIME:20260424T000000Z
LOCATION:Casal de Joves d'Argentona - Carrer Enric Granados, 5
ORGANIZER:Regidoria de Joventut
COMMENT:Preu: Gratuït amb inscripció prèvia
Durada: 3hores
DESCRIPTION:Fes la teva tassa personalitzada
URL:https://argentona.cat/document.php?id=62973
END:VEVENT
END:VCALENDAR