BEGIN:VCALENDAR
VERSION:2.0
PRODID:-//Plone.org//NONSGML plone.app.event//EN
X-WR-TIMEZONE:Europe/Madrid
BEGIN:VEVENT
SUMMARY:Crisi de sostenibilitat
DTSTART;TZID=Europe/Madrid;VALUE=DATE-TIME:20260528T180000
DTEND;TZID=Europe/Madrid;VALUE=DATE-TIME:20260528T190000
DTSTAMP;VALUE=DATE-TIME:20260420T133444Z
UID:461a6c5c303d22d80103daf9fb14271c
CREATED;VALUE=DATE-TIME:20260528T000000Z
CATEGORIES:Conferència
LOCATION:Centre Parroquial - c/ Bernat de Riudemeia, 4
ORGANIZER:Aula d'Extensió Universitària d'Argentona
COMMENT:Preu: Socis gratuït.  No socis: aportació 5 euros.
DESCRIPTION:Conferència de l'Aula d'Extensió Universitària d'Argentona
URL:https://argentona.cat/document.php?id=62953
END:VEVENT
END:VCALENDAR