BEGIN:VCALENDAR
VERSION:2.0
PRODID:-//Plone.org//NONSGML plone.app.event//EN
X-WR-TIMEZONE:Europe/Madrid
BEGIN:VEVENT
SUMMARY:Presentació de llibre
DTSTART;TZID=Europe/Madrid;VALUE=DATE-TIME:20260317T190000
DTEND;TZID=Europe/Madrid;VALUE=DATE-TIME:20260317T200000
DTSTAMP;VALUE=DATE-TIME:20260420T175615Z
UID:ac2adefc41f74136389e79f1636e2576
CREATED;VALUE=DATE-TIME:20260317T000000Z
CATEGORIES:Literatura
LOCATION:Biblioteca Municipal Joan Fontcuberta i Gel - c/ Gran, 3-5
ORGANIZER:Biblioteca Municipal Joan Fontcuberta i Gel
COMMENT:Durada: 1 hora aprox.
DESCRIPTION:Les dones dels dijous. Esqueixos arrelats
URL:https://argentona.cat/document.php?id=62346
END:VEVENT
END:VCALENDAR