BEGIN:VCALENDAR
VERSION:2.0
PRODID:-//Plone.org//NONSGML plone.app.event//EN
X-WR-TIMEZONE:Europe/Madrid
BEGIN:VEVENT
SUMMARY:Jornades de memòria històrica d'Argentona 2026
DTSTART;TZID=Europe/Madrid;VALUE=DATE-TIME:20260206T190000
DTEND;TZID=Europe/Madrid;VALUE=DATE-TIME:20260206T200000
DTSTAMP;VALUE=DATE-TIME:20260423T121408Z
UID:bd89af4e7332a8da09f297ad9c767403
CREATED;VALUE=DATE-TIME:20260206T000000Z
CATEGORIES:Teatre
LOCATION:Centre Parroquial
ORGANIZER:Òmnium i Centre d'Estudis Argentonins Jaume Clavell
COMMENT:Preu: Taquilla inversa
Durada: 85'
DESCRIPTION:Un cel de plom
URL:https://argentona.cat/document.php?id=61961
END:VEVENT
END:VCALENDAR