BEGIN:VCALENDAR
VERSION:2.0
PRODID:-//Plone.org//NONSGML plone.app.event//EN
X-WR-TIMEZONE:Europe/Madrid
BEGIN:VEVENT
SUMMARY:"Rosa Agenjo: Les meves ceràmiques favorites"
DTSTART;TZID=Europe/Madrid;VALUE=DATE-TIME:20251112T190000
DTEND;TZID=Europe/Madrid;VALUE=DATE-TIME:20251112T200000
DTSTAMP;VALUE=DATE-TIME:20260423T213211Z
UID:9d34977196bf842c6b554c34108a4654
CREATED;VALUE=DATE-TIME:20251112T000000Z
CATEGORIES:Conferència
LOCATION:Museu del Càntir - plaça de l'Església, 9
ORGANIZER:Ajuntament d'Argentona, Museu del Càntir
DESCRIPTION:Presentació del llibre sobre l'artista
URL:https://argentona.cat/document.php?id=61374
END:VEVENT
END:VCALENDAR