BEGIN:VCALENDAR
VERSION:2.0
PRODID:-//Plone.org//NONSGML plone.app.event//EN
X-WR-TIMEZONE:Europe/Madrid
BEGIN:VEVENT
SUMMARY:NEANDERTALS. A càrrec de David Farell. Arqueòleg
DTSTART;TZID=Europe/Madrid;VALUE=DATE-TIME:20250605T000000
DTEND;TZID=Europe/Madrid;VALUE=DATE-TIME:20250605T010000
DTSTAMP;VALUE=DATE-TIME:20260423T044502Z
UID:1287f0032dae42354dac8c8dde5bc5d9
CREATED;VALUE=DATE-TIME:20250605T000000Z
CATEGORIES:Conferència
LOCATION:Centre Parroquial - c/ Bernat de Riudemeia, 4
ORGANIZER:Aula d'Extensió Universitària d'Argentona
COMMENT:Preu: Socis gratuït.  No socis: aportació 5 euros.
URL:https://argentona.cat/document.php?id=60134
END:VEVENT
END:VCALENDAR