BEGIN:VCALENDAR
VERSION:2.0
PRODID:-//Plone.org//NONSGML plone.app.event//EN
X-WR-TIMEZONE:Europe/Madrid
BEGIN:VEVENT
SUMMARY:Tallers de convivència i ètica digital per treballar l'impacte en els casos de ciberassetjament.
DTSTART;TZID=Europe/Madrid;VALUE=DATE-TIME:20250617T090000
DTEND;TZID=Europe/Madrid;VALUE=DATE-TIME:20250617T100000
DTSTAMP;VALUE=DATE-TIME:20260423T044917Z
UID:ae2046e310ac087dcd713c8d0cfada29
CREATED;VALUE=DATE-TIME:20250605T000000Z
CATEGORIES:Cursos
LOCATION:Escoles de Primària d'Argentona
ORGANIZER:Ajuntament d'Argentona
COMMENT:Preu: Gratuït
Durada: varies dates 5, 13 i 17 de juny de 2025
URL:https://argentona.cat/document.php?id=59941
END:VEVENT
END:VCALENDAR