BEGIN:VCALENDAR
VERSION:2.0
PRODID:-//Plone.org//NONSGML plone.app.event//EN
X-WR-TIMEZONE:Europe/Madrid
BEGIN:VEVENT
SUMMARY:En veu alta: relats de...
DTSTART;TZID=Europe/Madrid;VALUE=DATE-TIME:20250424T190000
DTEND;TZID=Europe/Madrid;VALUE=DATE-TIME:20250424T200000
DTSTAMP;VALUE=DATE-TIME:20260420T090037Z
UID:f7333eeb379405050814dc68cbf1b2b9
CREATED;VALUE=DATE-TIME:20250424T000000Z
LOCATION:Biblioteca Municipal Joan Fontcuberta i Gel - c/ Gran, 3-5
ORGANIZER:Plataforma per la Llengua i la CAL Argentona
COMMENT:Preu: Entrada lliure
Durada: 1 hora aprox.
DESCRIPTION:Mercè Rodoreda
URL:https://argentona.cat/document.php?id=59828
END:VEVENT
END:VCALENDAR