BEGIN:VCALENDAR
VERSION:2.0
PRODID:-//Plone.org//NONSGML plone.app.event//EN
X-WR-TIMEZONE:Europe/Madrid
BEGIN:VEVENT
SUMMARY:Poesia a la Plaça
DTSTART;TZID=Europe/Madrid;VALUE=DATE-TIME:20241215T120000
DTEND;TZID=Europe/Madrid;VALUE=DATE-TIME:20241215T130000
DTSTAMP;VALUE=DATE-TIME:20260424T063644Z
UID:35a2531d98254118d20c750b2b29a1f4
CREATED;VALUE=DATE-TIME:20241215T000000Z
CATEGORIES:Literatura
LOCATION:Plaça Joan Salvat-Papasseit
ORGANIZER:Associació Amics de la Poesia d'Argentona i CAL
COMMENT:Preu: Entrada lliure
Durada: 1h30m
DESCRIPTION:Homenatge a Joan Salvat-Papasseit
URL:https://argentona.cat/document.php?id=58774
END:VEVENT
END:VCALENDAR