BEGIN:VCALENDAR
VERSION:2.0
PRODID:-//Plone.org//NONSGML plone.app.event//EN
X-WR-TIMEZONE:Europe/Madrid
BEGIN:VEVENT
SUMMARY:Xerrades sobre la salut mental: La vellesa
DTSTART;TZID=Europe/Madrid;VALUE=DATE-TIME:20241129T173000
DTEND;TZID=Europe/Madrid;VALUE=DATE-TIME:20241129T183000
DTSTAMP;VALUE=DATE-TIME:20260422T000837Z
UID:1d0265f4ad74a7b26d8a80089896dd22
CREATED;VALUE=DATE-TIME:20241129T000000Z
CATEGORIES:Conferència
LOCATION:Sala de plens de l'antic Ajuntament
URL:https://argentona.cat/document.php?id=58492
END:VEVENT
END:VCALENDAR