BEGIN:VCALENDAR
VERSION:2.0
PRODID:-//Plone.org//NONSGML plone.app.event//EN
X-WR-TIMEZONE:Europe/Madrid
BEGIN:VEVENT
SUMMARY:Expedició DNI a Argentona
DTSTART;TZID=Europe/Madrid;VALUE=DATE-TIME:20240916T000000
DTEND;TZID=Europe/Madrid;VALUE=DATE-TIME:20240916T010000
DTSTAMP;VALUE=DATE-TIME:20260421T101059Z
UID:6e737316232f59eb48ca7b689802bbd3
CREATED;VALUE=DATE-TIME:20240916T000000Z
LOCATION:Policia Local - Ramon Par, 4
URL:https://argentona.cat/document.php?id=57802
END:VEVENT
END:VCALENDAR