BEGIN:VCALENDAR
VERSION:2.0
PRODID:-//Plone.org//NONSGML plone.app.event//EN
X-WR-TIMEZONE:Europe/Madrid
BEGIN:VEVENT
SUMMARY:Visita a les Ginesteres
DTSTART;TZID=Europe/Madrid;VALUE=DATE-TIME:20240611T100000
DTEND;TZID=Europe/Madrid;VALUE=DATE-TIME:20240611T110000
DTSTAMP;VALUE=DATE-TIME:20260420T162037Z
UID:054551726ba04a63aab0453b0abf86fe
CREATED;VALUE=DATE-TIME:20240611T000000Z
CATEGORIES:Agenda institucional
DESCRIPTION:Agenda del regidor Xavier Collet
URL:https://argentona.cat/document.php?id=57329
END:VEVENT
END:VCALENDAR