BEGIN:VCALENDAR
VERSION:2.0
PRODID:-//Plone.org//NONSGML plone.app.event//EN
X-WR-TIMEZONE:Europe/Madrid
BEGIN:VEVENT
SUMMARY:Amb veu de dona amb Meritxell Jubany
DTSTART;TZID=Europe/Madrid;VALUE=DATE-TIME:20240227T190000
DTEND;TZID=Europe/Madrid;VALUE=DATE-TIME:20240227T200000
DTSTAMP;VALUE=DATE-TIME:20260422T001227Z
UID:5f86fc87b83c36ddc445d93514be63c6
CREATED;VALUE=DATE-TIME:20240227T000000Z
CATEGORIES:Literatura
LOCATION:Biblioteca Municipal Joan Fontcuberta i Gel - c/ Gran, 3-5
ORGANIZER:Biblioteca Municipal Joan Fontcuberta i Gel
COMMENT:Preu: Entrada lliure
Durada: 1 hora aprox.
URL:https://argentona.cat/document.php?id=55270
END:VEVENT
END:VCALENDAR