BEGIN:VCALENDAR
VERSION:2.0
PRODID:-//Plone.org//NONSGML plone.app.event//EN
X-WR-TIMEZONE:Europe/Madrid
BEGIN:VEVENT
SUMMARY:Exposició Lliures i Sense Por
DTSTART;TZID=Europe/Madrid;VALUE=DATE-TIME:20231127T000000
DTEND;TZID=Europe/Madrid;VALUE=DATE-TIME:20231127T010000
DTSTAMP;VALUE=DATE-TIME:20260422T141859Z
UID:cfe756cfe91f372d2d2f1cfd46acd995
CREATED;VALUE=DATE-TIME:20231106T000000Z
CATEGORIES:Exposició
LOCATION:Vestíbul Institut d'Argentona - Carrer Peons Caminers
ORGANIZER:Ajuntament d'Argentona. Regidoria d'Igualtat, feminismes i LGTBIQ+
COMMENT:Preu: gratuït
Durada: tot el dia
URL:https://argentona.cat/document.php?id=55131
END:VEVENT
END:VCALENDAR