BEGIN:VCALENDAR
VERSION:2.0
PRODID:-//Plone.org//NONSGML plone.app.event//EN
X-WR-TIMEZONE:Europe/Madrid
BEGIN:VEVENT
SUMMARY:"Qui no té por a la intel.ligència artificial?" A càrrec de Jordi Torres i Viñals. Catedràtic d'informàticai i investigador del Barcelona Supercomputing Center
DTSTART;TZID=Europe/Madrid;VALUE=DATE-TIME:20230525T180000
DTEND;TZID=Europe/Madrid;VALUE=DATE-TIME:20230525T190000
DTSTAMP;VALUE=DATE-TIME:20260421T032232Z
UID:1c78d201b6c2e63ef96af426c46f4a97
CREATED;VALUE=DATE-TIME:20230525T000000Z
CATEGORIES:Conferència
LOCATION:Centre Parroquial - c/ Bernat de Riudemeia, 4
COMMENT:Preu: Soci: Entrada lliure  No soci: 5 Euros
DESCRIPTION:"Qui no té por a la intel.ligència artificial?"
URL:https://argentona.cat/document.php?id=54051
END:VEVENT
END:VCALENDAR