BEGIN:VCALENDAR
VERSION:2.0
PRODID:-//Plone.org//NONSGML plone.app.event//EN
X-WR-TIMEZONE:Europe/Madrid
BEGIN:VEVENT
SUMMARY:Futbol FC Argentona vs UE Vilassar de Mar B
DTSTART;TZID=Europe/Madrid;VALUE=DATE-TIME:20221015T170000
DTEND;TZID=Europe/Madrid;VALUE=DATE-TIME:20221015T180000
DTSTAMP;VALUE=DATE-TIME:20260420T103646Z
UID:a902875ab516e4cd1390326e94a6b7db
CREATED;VALUE=DATE-TIME:20221015T000000Z
CATEGORIES:Esports
LOCATION:Camp Mpal d'Argentona
ORGANIZER:FC Argentona
DESCRIPTION:camp municipal d'Argentona dissabte 15 d'octubre a les 17h
URL:https://argentona.cat/document.php?id=52573
END:VEVENT
END:VCALENDAR