BEGIN:VCALENDAR
VERSION:2.0
PRODID:-//Plone.org//NONSGML plone.app.event//EN
X-WR-TIMEZONE:Europe/Madrid
BEGIN:VEVENT
SUMMARY:Presentació llibre "Causa general"
DTSTART;TZID=Europe/Madrid;VALUE=DATE-TIME:20220311T190000
DTEND;TZID=Europe/Madrid;VALUE=DATE-TIME:20220311T200000
DTSTAMP;VALUE=DATE-TIME:20260420T191039Z
UID:65ac6cb881d7280145ccaf17e6e601c2
CREATED;VALUE=DATE-TIME:20220311T000000Z
CATEGORIES:Conferència
LOCATION:Saló de Pedra - C. Gran, 61
URL:https://argentona.cat/document.php?id=50824
END:VEVENT
END:VCALENDAR