BEGIN:VCALENDAR
VERSION:2.0
PRODID:-//Plone.org//NONSGML plone.app.event//EN
X-WR-TIMEZONE:Europe/Madrid
BEGIN:VEVENT
SUMMARY:Entrega dels IV Premis Natura Argentona i Natura Maresme
DTSTART;TZID=Europe/Madrid;VALUE=DATE-TIME:20211217T190000
DTEND;TZID=Europe/Madrid;VALUE=DATE-TIME:20211217T200000
DTSTAMP;VALUE=DATE-TIME:20260424T185544Z
UID:dad75f592d44551d11edecbc1adc5e19
CREATED;VALUE=DATE-TIME:20211217T000000Z
LOCATION:Biblioteca Municipal Joan Fontcuberta i Gel
ORGANIZER:Natura Argentona
COMMENT:Preu: Gratuït
URL:https://argentona.cat/document.php?id=50433
END:VEVENT
END:VCALENDAR