BEGIN:VCALENDAR
VERSION:2.0
PRODID:-//Plone.org//NONSGML plone.app.event//EN
X-WR-TIMEZONE:Europe/Madrid
BEGIN:VEVENT
SUMMARY:Classes d'Escacs per infants i adolescents
DTSTART;TZID=Europe/Madrid;VALUE=DATE-TIME:20211227T170000
DTEND;TZID=Europe/Madrid;VALUE=DATE-TIME:20211227T180000
DTSTAMP;VALUE=DATE-TIME:20260424T190054Z
UID:a5ccb9824339b0f054bc3fd685330fc4
CREATED;VALUE=DATE-TIME:20211213T000000Z
CATEGORIES:Esports
LOCATION:Centre Parroquial - c/ Bernat de Riudemeia, 4
ORGANIZER:Club ESCACS C.P. ARGENTONA
COMMENT:Preu: 20 Euros/mes
Durada: Cada dijous no festiu de 17 a 18 hores
URL:https://argentona.cat/document.php?id=50430
END:VEVENT
END:VCALENDAR