BEGIN:VCALENDAR
VERSION:2.0
PRODID:-//Plone.org//NONSGML plone.app.event//EN
X-WR-TIMEZONE:Europe/Madrid
BEGIN:VEVENT
SUMMARY:Presentació del núm. 3 de la revista 4 Columnes L'Univers de Josep Puig i Cadafalch
DTSTART;TZID=Europe/Madrid;VALUE=DATE-TIME:20211217T190000
DTEND;TZID=Europe/Madrid;VALUE=DATE-TIME:20211217T200000
DTSTAMP;VALUE=DATE-TIME:20260424T185232Z
UID:5d03acbab1498bcbcb80ff7593716ccd
CREATED;VALUE=DATE-TIME:20211217T000000Z
CATEGORIES:Conferència
LOCATION:Saló de Pedra - Antic Ajuntament C. Gran, 61 - C. Gran, 61
ORGANIZER:Amics de Josep Puig i Cadafalch
COMMENT:Preu: Gratuït
Durada: 1 hora
URL:https://argentona.cat/document.php?id=50343
END:VEVENT
END:VCALENDAR