BEGIN:VCALENDAR
VERSION:2.0
PRODID:-//Plone.org//NONSGML plone.app.event//EN
X-WR-TIMEZONE:Europe/Madrid
BEGIN:VEVENT
SUMMARY:Agenda govern. Reunió Musicargentona
DTSTART;TZID=Europe/Madrid;VALUE=DATE-TIME:20210923T100000
DTEND;TZID=Europe/Madrid;VALUE=DATE-TIME:20210923T110000
DTSTAMP;VALUE=DATE-TIME:20260423T033656Z
UID:40160504f3de09fac2e72e87084be58b
CREATED;VALUE=DATE-TIME:20210923T000000Z
CATEGORIES:Conferència,Agenda de l'alcaldessa
LOCATION:Alcaldia
URL:https://argentona.cat/document.php?id=49806
END:VEVENT
END:VCALENDAR