BEGIN:VCALENDAR
VERSION:2.0
PRODID:-//Plone.org//NONSGML plone.app.event//EN
X-WR-TIMEZONE:Europe/Madrid
BEGIN:VEVENT
SUMMARY:Presentació del llibre La bessona solitària 
DTSTART;TZID=Europe/Madrid;VALUE=DATE-TIME:20210708T190000
DTEND;TZID=Europe/Madrid;VALUE=DATE-TIME:20210708T200000
DTSTAMP;VALUE=DATE-TIME:20260420T130423Z
UID:43eb69666a2dd30df9b3b1e90f216abd
CREATED;VALUE=DATE-TIME:20210708T000000Z
LOCATION:Saló de Pedra - C. Gran, 61
ORGANIZER:Biblioteca Municipal d'Argentona
DESCRIPTION:d'Elisabet Claveria Capaul
URL:https://argentona.cat/document.php?id=49042
END:VEVENT
END:VCALENDAR