BEGIN:VCALENDAR
VERSION:2.0
PRODID:-//Plone.org//NONSGML plone.app.event//EN
X-WR-TIMEZONE:Europe/Madrid
BEGIN:VEVENT
SUMMARY:Jornada solidària amb Open Arms ACTE AJORNAT
DTSTART;TZID=Europe/Madrid;VALUE=DATE-TIME:20200315T100000
DTEND;TZID=Europe/Madrid;VALUE=DATE-TIME:20200315T110000
DTSTAMP;VALUE=DATE-TIME:20260422T072058Z
UID:d8dbe144883b8fe86c5876196b960664
CREATED;VALUE=DATE-TIME:20200315T000000Z
CATEGORIES:Conferència
LOCATION:Xerrades al Casal de Gent Gran i Calçotada a la Plaça de Vendre
ORGANIZER:A.E. Calabrot d'Argent
COMMENT:Preu: Xerrades gratuïtes. Menú adult 8&euro; i menú infantil 6&euro;
Durada: 10:00 - Xerrada per a infants / 12:00 - Xerrada per a adults / 14:00 - Calçotada
DESCRIPTION:Xerrades divulgatives per a infants i adults i calçotada en benefici d'Open Arms
URL:https://argentona.cat/document.php?id=45792
END:VEVENT
END:VCALENDAR