BEGIN:VCALENDAR
VERSION:2.0
PRODID:-//Plone.org//NONSGML plone.app.event//EN
X-WR-TIMEZONE:Europe/Madrid
BEGIN:VEVENT
SUMMARY:Naturalistes
DTSTART;TZID=Europe/Madrid;VALUE=DATE-TIME:20180616T120000
DTEND;TZID=Europe/Madrid;VALUE=DATE-TIME:20180616T130000
DTSTAMP;VALUE=DATE-TIME:20260420T150515Z
UID:fbb2336189752178ae50ab987a65c2c3
CREATED;VALUE=DATE-TIME:20180616T000000Z
CATEGORIES:Literatura,Infantils
LOCATION:Biblioteca Municipal d'Argentona - c/ Gran, 3-5
ORGANIZER:Biblioteca Municipal d'Argentona
COMMENT:Preu: Entrada Lliure
Durada: 1 i 1/2 aprox.
DESCRIPTION:Laboratori de lectura en família
URL:https://argentona.cat/document.php?id=40688
END:VEVENT
END:VCALENDAR