BEGIN:VCALENDAR
VERSION:2.0
PRODID:-//Plone.org//NONSGML plone.app.event//EN
X-WR-TIMEZONE:Europe/Madrid
BEGIN:VEVENT
SUMMARY:Agenda de l'alcalde: Entrevista Ràdio Argentona
DTSTART;TZID=Europe/Madrid;VALUE=DATE-TIME:20180517T103000
DTEND;TZID=Europe/Madrid;VALUE=DATE-TIME:20180517T113000
DTSTAMP;VALUE=DATE-TIME:20260423T155013Z
UID:40e2f67883aedbae7f2a120efc88516a
CREATED;VALUE=DATE-TIME:20180517T000000Z
CATEGORIES:Agenda de l'alcaldessa,Agenda institucional
URL:https://argentona.cat/document.php?id=40477
END:VEVENT
END:VCALENDAR