BEGIN:VCALENDAR
VERSION:2.0
PRODID:-//Plone.org//NONSGML plone.app.event//EN
X-WR-TIMEZONE:Europe/Madrid
BEGIN:VEVENT
SUMMARY:Xerrada - Vermouth a càrrec de Margarida Colomer: El moviment republicà a Catalunya
DTSTART;TZID=Europe/Madrid;VALUE=DATE-TIME:20180520T120000
DTEND;TZID=Europe/Madrid;VALUE=DATE-TIME:20180520T130000
DTSTAMP;VALUE=DATE-TIME:20260423T121435Z
UID:0c69d854ff6af3053660a4281a3b74b9
CREATED;VALUE=DATE-TIME:20180520T000000Z
CATEGORIES:Conferència
LOCATION:Museu del Càntir - plaça de l'Església, 9
ORGANIZER:Museu del Càntir
COMMENT:Preu: gratuït
Durada: 2 hores
DESCRIPTION:El moviment republicà a Catalunya
URL:https://argentona.cat/document.php?id=40368
END:VEVENT
END:VCALENDAR