BEGIN:VCALENDAR
VERSION:2.0
PRODID:-//Plone.org//NONSGML plone.app.event//EN
X-WR-TIMEZONE:Europe/Madrid
BEGIN:VEVENT
SUMMARY:Tercera reunió de la Comissió de Festa Major d'Estiu 2016
DTSTART;TZID=Europe/Madrid;VALUE=DATE-TIME:20160609T190000
DTEND;TZID=Europe/Madrid;VALUE=DATE-TIME:20160609T200000
DTSTAMP;VALUE=DATE-TIME:20260420T044426Z
UID:6ee59e4e2f4152025d191bda443599d8
CREATED;VALUE=DATE-TIME:20160609T000000Z
LOCATION:Sala d'actes de l'Ajuntament - C. Ramon Par, 1
URL:https://argentona.cat/document.php?id=35243
END:VEVENT
END:VCALENDAR