BEGIN:VCALENDAR
VERSION:2.0
PRODID:-//Plone.org//NONSGML plone.app.event//EN
X-WR-TIMEZONE:Europe/Madrid
BEGIN:VEVENT
SUMMARY:Jornada de &OpenCurlyDoubleQuote;Coeducació i acció educativa&CloseCurlyDoubleQuote;
DTSTART;TZID=Europe/Madrid;VALUE=DATE-TIME:20160609T130000
DTEND;TZID=Europe/Madrid;VALUE=DATE-TIME:20160609T140000
DTSTAMP;VALUE=DATE-TIME:20260420T044325Z
UID:7e4f7435268a92eb1ca858f0fe68dced
CREATED;VALUE=DATE-TIME:20160609T000000Z
CATEGORIES:Cursos
LOCATION:Escola Bernat de Riudemeia - Carrer Bernat de Riudemeia, 27
ORGANIZER:Ajuntament d'Argentona
DESCRIPTION:La Comissió de Prevenció de Violències Masclistes de la regidoria d'Igualtat organitza una jornada pràctica per promoure la cooeducació en els centres escolars
URL:https://argentona.cat/document.php?id=35227
END:VEVENT
END:VCALENDAR