BEGIN:VCALENDAR
VERSION:2.0
PRODID:-//Plone.org//NONSGML plone.app.event//EN
X-WR-TIMEZONE:Europe/Madrid
BEGIN:VEVENT
SUMMARY:Presentació Fira Internacional de Ceràmica Argillà Argentona
DTSTART;TZID=Europe/Madrid;VALUE=DATE-TIME:20160609T123000
DTEND;TZID=Europe/Madrid;VALUE=DATE-TIME:20160609T133000
DTSTAMP;VALUE=DATE-TIME:20260420T044615Z
UID:c952ebc4f3c057367bc5167058edbc68
CREATED;VALUE=DATE-TIME:20160609T000000Z
LOCATION:Museu del Càntir - plaça de l'Església, 9
URL:https://argentona.cat/document.php?id=35223
END:VEVENT
END:VCALENDAR